BEGIN:VCALENDAR
VERSION:2.0
PRODID:-//LC Lifting - ECPv6.15.14//NONSGML v1.0//EN
CALSCALE:GREGORIAN
METHOD:PUBLISH
X-ORIGINAL-URL:https://lclifting.com
X-WR-CALDESC:Events for LC Lifting
REFRESH-INTERVAL;VALUE=DURATION:PT1H
X-Robots-Tag:noindex
X-PUBLISHED-TTL:PT1H
BEGIN:VTIMEZONE
TZID:America/Los_Angeles
BEGIN:DAYLIGHT
TZOFFSETFROM:-0800
TZOFFSETTO:-0700
TZNAME:PDT
DTSTART:20240310T100000
END:DAYLIGHT
BEGIN:STANDARD
TZOFFSETFROM:-0700
TZOFFSETTO:-0800
TZNAME:PST
DTSTART:20241103T090000
END:STANDARD
BEGIN:DAYLIGHT
TZOFFSETFROM:-0800
TZOFFSETTO:-0700
TZNAME:PDT
DTSTART:20250309T100000
END:DAYLIGHT
BEGIN:STANDARD
TZOFFSETFROM:-0700
TZOFFSETTO:-0800
TZNAME:PST
DTSTART:20251102T090000
END:STANDARD
BEGIN:DAYLIGHT
TZOFFSETFROM:-0800
TZOFFSETTO:-0700
TZNAME:PDT
DTSTART:20260308T100000
END:DAYLIGHT
BEGIN:STANDARD
TZOFFSETFROM:-0700
TZOFFSETTO:-0800
TZNAME:PST
DTSTART:20261101T090000
END:STANDARD
BEGIN:DAYLIGHT
TZOFFSETFROM:-0800
TZOFFSETTO:-0700
TZNAME:PDT
DTSTART:20270314T100000
END:DAYLIGHT
BEGIN:STANDARD
TZOFFSETFROM:-0700
TZOFFSETTO:-0800
TZNAME:PST
DTSTART:20271107T090000
END:STANDARD
END:VTIMEZONE
BEGIN:VEVENT
DTSTART;TZID=America/Los_Angeles:20260117T120000
DTEND;TZID=America/Los_Angeles:20260117T170000
DTSTAMP:20260421T044626
CREATED:20250803T211136Z
LAST-MODIFIED:20260114T155344Z
UID:2271-1768651200-1768669200@lclifting.com
SUMMARY:Winter Giants Powerlifting Competition
DESCRIPTION:Unleash your strength at the 2026 Winter Giants Powerlifting Competition!📅 Date: Saturday\, January 17th\, 2026🕛 Time: Lifting begins at 12:00 PM \n🔥 Events: Squat\, Bench Press\, and Deadlift — 3 attempts per lift💪 Who Can Compete: Open to all — no federation membership or prior meet experience required💵 Entry Fee: $100 per participant🎟️ Spectators: FREE — bring your crew and your energy!🏆 Prizes: \n\n\n$500 cash prize to the top men’s and women’s Wilks totals — only if 20 or more competitors register \n\n\nAlternative non-cash prizes will be awarded if there are fewer than 20 lifters \n\n\n📌 Note: This is currently a non-sanctioned event\, but may become sanctioned prior to competition day. \n👕 Want a free competition shirt? \n\n\nRSVP and pay by December 20th\, 2025 to receive a shirt \n\n\nFinal registration deadline: January 12th\, 2026 (no shirt included after Dec 20) \n\n\nSign up by RSVPing directly on our website and submit payment via Venmo to @LCVCarters or arrange cash payment by contacting us at (509) 780-7308. \n\nWhether you’re looking to smash PRs\, compete for cash\, or just experience the thrill of the platform — Winter Giants is where strength meets atmosphere. Let’s make some noise and move some serious weight! \nLift big. Compete hard. Become a Giant.
URL:https://lclifting.com/event/winter-giants-powerlifting-competition/
LOCATION:BA Fitness\, 1009 Bryden Avenue\, Lewiston\, ID\, 83501\, United States
END:VEVENT
BEGIN:VEVENT
DTSTART;TZID=America/Los_Angeles:20251025T120000
DTEND;TZID=America/Los_Angeles:20251025T170000
DTSTAMP:20260421T044626
CREATED:20250803T202527Z
LAST-MODIFIED:20250803T202527Z
UID:2243-1761393600-1761411600@lclifting.com
SUMMARY:Static Monsters Strongman Competition 2025
DESCRIPTION:Static Monsters Strongman Competition – October 25th\, 2025 \nGet ready to showcase your raw power at the Static Monsters Strongman Competition\, happening Saturday\, October 25th\, 2025 at 12:00 PM at BA Fitness in Lewiston\, ID. \nThis is a static strength competition featuring two max-effort events: \n\n\nMax Log Press \n\n\nMax 18″ Axle Deadlift \n\n\nThis event is open to lifters worldwide\, and it’s more than just a local contest — the Top 10 competitors in each weight class globally will qualify for the World’s Static Monster competition. \n\nRegistration Details:\n\n\nEntry Fee: $50 \n\n\nIncludes a competition t-shirt if you register and pay by October 1st\, 2025 \n\n\nFinal registration and payment deadline (no shirt): October 20th\, 2025 \n\n\nSign up directly on our website and submit payment via Venmo to @LCVCarters or arrange cash payment by contacting us at (509) 780-7308. \nDon’t miss your chance to test your static strength against the best from around the globe. Bring your supporters\, spectators are free! Whether you’re a seasoned strongman or a first-time competitor\, it’s time to lift big and earn your spot on the world stage!
URL:https://lclifting.com/event/static-monsters-strongman-competition-2025/
LOCATION:BA Fitness\, 1009 Bryden Avenue\, Lewiston\, ID\, 83501\, United States
END:VEVENT
BEGIN:VEVENT
DTSTART;TZID=America/Los_Angeles:20250726T120000
DTEND;TZID=America/Los_Angeles:20250726T170000
DTSTAMP:20260421T044626
CREATED:20250707T233719Z
LAST-MODIFIED:20250708T145114Z
UID:2121-1753531200-1753549200@lclifting.com
SUMMARY:Summer Powerlift 2025 - Cash Prizes!
DESCRIPTION:Think you’ve got what it takes? Step onto the platform and prove it at the BA Fitness Powerlifting Competition!Events include: Squat\, Bench Press\, and Deadlift\, with three attempts per lift. \n💪 Open to all lifters — no membership or prior competition experience required.💵 $100 entry fee per participant🎟️ Spectators get in FREE — come support your favorite lifters! \n🏆 Cash prize for the highest total across all three lifts! \nWhether you’re chasing records or just the thrill of competition\, join us for an afternoon of strength\, strategy\, and community. Come for the lifts. Stay for the atmosphere. Bring your team\, bring the hype—and leave it all on the platform.
URL:https://lclifting.com/event/summer-powerlift-2025-cash-prizes/
LOCATION:BA Fitness\, 1009 Bryden Avenue\, Lewiston\, ID\, 83501\, United States
CATEGORIES:Powerlifting
END:VEVENT
END:VCALENDAR