BEGIN:VCALENDAR
VERSION:2.0
PRODID:-//LC Lifting - ECPv6.15.14//NONSGML v1.0//EN
CALSCALE:GREGORIAN
METHOD:PUBLISH
X-ORIGINAL-URL:https://lclifting.com
X-WR-CALDESC:Events for LC Lifting
REFRESH-INTERVAL;VALUE=DURATION:PT1H
X-Robots-Tag:noindex
X-PUBLISHED-TTL:PT1H
BEGIN:VTIMEZONE
TZID:America/Los_Angeles
BEGIN:DAYLIGHT
TZOFFSETFROM:-0800
TZOFFSETTO:-0700
TZNAME:PDT
DTSTART:20240310T100000
END:DAYLIGHT
BEGIN:STANDARD
TZOFFSETFROM:-0700
TZOFFSETTO:-0800
TZNAME:PST
DTSTART:20241103T090000
END:STANDARD
BEGIN:DAYLIGHT
TZOFFSETFROM:-0800
TZOFFSETTO:-0700
TZNAME:PDT
DTSTART:20250309T100000
END:DAYLIGHT
BEGIN:STANDARD
TZOFFSETFROM:-0700
TZOFFSETTO:-0800
TZNAME:PST
DTSTART:20251102T090000
END:STANDARD
BEGIN:DAYLIGHT
TZOFFSETFROM:-0800
TZOFFSETTO:-0700
TZNAME:PDT
DTSTART:20260308T100000
END:DAYLIGHT
BEGIN:STANDARD
TZOFFSETFROM:-0700
TZOFFSETTO:-0800
TZNAME:PST
DTSTART:20261101T090000
END:STANDARD
END:VTIMEZONE
BEGIN:VEVENT
DTSTART;TZID=America/Los_Angeles:20250726T120000
DTEND;TZID=America/Los_Angeles:20250726T170000
DTSTAMP:20260421T071604
CREATED:20250707T233719Z
LAST-MODIFIED:20250708T145114Z
UID:2121-1753531200-1753549200@lclifting.com
SUMMARY:Summer Powerlift 2025 - Cash Prizes!
DESCRIPTION:Think you’ve got what it takes? Step onto the platform and prove it at the BA Fitness Powerlifting Competition!Events include: Squat\, Bench Press\, and Deadlift\, with three attempts per lift. \n💪 Open to all lifters — no membership or prior competition experience required.💵 $100 entry fee per participant🎟️ Spectators get in FREE — come support your favorite lifters! \n🏆 Cash prize for the highest total across all three lifts! \nWhether you’re chasing records or just the thrill of competition\, join us for an afternoon of strength\, strategy\, and community. Come for the lifts. Stay for the atmosphere. Bring your team\, bring the hype—and leave it all on the platform.
URL:https://lclifting.com/event/summer-powerlift-2025-cash-prizes/
LOCATION:BA Fitness\, 1009 Bryden Avenue\, Lewiston\, ID\, 83501\, United States
CATEGORIES:Powerlifting
END:VEVENT
END:VCALENDAR